BEGIN:VCALENDAR
VERSION:2.0
PRODID:-//hacksw/handcal//NONSGML v1.0//EN
BEGIN:VEVENT
SUMMARY:Tournoi bleu Real Bridge
UID:6b2718b5-2a4c-4278-8bc0-e633a2288380
DTSTART:20260423T183000Z
DTEND:20260423T210000Z
LOCATION:Localisation   
CATEGORIES:Sportif
STATUS:
URL;VALUE=URI:https://bridgeclubchevreuse.club.ffbridge.fr/evenements/2026/04/23/tournoi-bleu-real-bridge-2434329
END:VEVENT
END:VCALENDAR
