BEGIN:VCALENDAR
VERSION:2.0
PRODID:-//hacksw/handcal//NONSGML v1.0//EN
BEGIN:VEVENT
SUMMARY:Rondes de France -Directeur de tournoi JF Hazard
UID:c22870b0-99fd-4a3a-9aea-8dfef681daed
DTSTART:20260421T120000Z
DTEND:20260421T160000Z
LOCATION:Localisation   
CATEGORIES:Sportif
STATUS:
URL;VALUE=URI:https://bridgeclubchevreuse.club.ffbridge.fr/evenements/2026/04/21/rondes-de-france-directeur-de-tournoi-jf-hazard-2434328
END:VEVENT
END:VCALENDAR
