BEGIN:VCALENDAR
VERSION:2.0
PRODID:-//hacksw/handcal//NONSGML v1.0//EN
BEGIN:VEVENT
SUMMARY:Coupe des clubs - Directeur de tournoi JF Hazard
UID:805af28a-8bf2-4612-8334-10a589f93d42
DTSTART:20260417T120000Z
DTEND:20260417T160000Z
LOCATION:Localisation   
CATEGORIES:Sportif
STATUS:
URL;VALUE=URI:https://bridgeclubchevreuse.club.ffbridge.fr/evenements/2026/04/17/coupe-des-clubs-directeur-de-tournoi-jf-hazard-2434325
END:VEVENT
END:VCALENDAR
